BEGIN:VCALENDAR
VERSION:2.0
PRODID:-//The Lieutenant Governor of Newfoundland and Labrador - ECPv5.10.0//NONSGML v1.0//EN
CALSCALE:GREGORIAN
METHOD:PUBLISH
X-WR-CALNAME:The Lieutenant Governor of Newfoundland and Labrador
X-ORIGINAL-URL:https://www.govhouse.nl.ca
X-WR-CALDESC:Events for The Lieutenant Governor of Newfoundland and Labrador
BEGIN:VTIMEZONE
TZID:America/St_Johns
BEGIN:DAYLIGHT
TZOFFSETFROM:-0330
TZOFFSETTO:-0230
TZNAME:NDT
DTSTART:20190310T053000
END:DAYLIGHT
BEGIN:STANDARD
TZOFFSETFROM:-0230
TZOFFSETTO:-0330
TZNAME:NST
DTSTART:20191103T043000
END:STANDARD
END:VTIMEZONE
BEGIN:VEVENT
DTSTART;TZID=America/St_Johns:20190206T170000
DTEND;TZID=America/St_Johns:20190206T183000
DTSTAMP:20260423T161107
CREATED:20190204T175830Z
LAST-MODIFIED:20190204T175830Z
UID:4095-1549472400-1549477800@www.govhouse.nl.ca
SUMMARY:Youth Parliament Reception
DESCRIPTION:Their Honours will host a reception for participants of the Newfoundland and Labrador Youth Parliament. \n 
URL:https://www.govhouse.nl.ca/event/youth-parliament-reception/
LOCATION:Government House
END:VEVENT
END:VCALENDAR