BEGIN:VCALENDAR
VERSION:2.0
PRODID:-//The Lieutenant Governor of Newfoundland and Labrador - ECPv5.10.0//NONSGML v1.0//EN
CALSCALE:GREGORIAN
METHOD:PUBLISH
X-WR-CALNAME:The Lieutenant Governor of Newfoundland and Labrador
X-ORIGINAL-URL:https://www.govhouse.nl.ca
X-WR-CALDESC:Events for The Lieutenant Governor of Newfoundland and Labrador
BEGIN:VTIMEZONE
TZID:America/St_Johns
BEGIN:DAYLIGHT
TZOFFSETFROM:-0330
TZOFFSETTO:-0230
TZNAME:NDT
DTSTART:20230312T053000
END:DAYLIGHT
BEGIN:STANDARD
TZOFFSETFROM:-0230
TZOFFSETTO:-0330
TZNAME:NST
DTSTART:20231105T043000
END:STANDARD
END:VTIMEZONE
BEGIN:VEVENT
DTSTART;TZID=America/St_Johns:20230922T200000
DTEND;TZID=America/St_Johns:20230922T220000
DTSTAMP:20260420T091700
CREATED:20230914T133555Z
LAST-MODIFIED:20230914T133555Z
UID:6027-1695412800-1695420000@www.govhouse.nl.ca
SUMMARY:World Premiere of The Wild Rovers Musical\, and the Grand Opening of The Majestic Theatre
DESCRIPTION:September 22\, 2023\, 8:00 p.m.\, Their Honours will attend the World Premiere of The Wild Rovers Musical\, and the Grand Opening of The Majestic Theatre\, in St. John’s.
URL:https://www.govhouse.nl.ca/event/world-premiere-of-the-wild-rovers-musical-and-the-grand-opening-of-the-majestic-theatre/
LOCATION:Majestic Theatre\, 390 Duckworth Street\, St. John;s\, Newfoundland and Labrador\, A1C 1H8\, Canada
END:VEVENT
END:VCALENDAR