BEGIN:VCALENDAR
VERSION:2.0
PRODID:-//The Lieutenant Governor of Newfoundland and Labrador - ECPv5.10.0//NONSGML v1.0//EN
CALSCALE:GREGORIAN
METHOD:PUBLISH
X-WR-CALNAME:The Lieutenant Governor of Newfoundland and Labrador
X-ORIGINAL-URL:https://www.govhouse.nl.ca
X-WR-CALDESC:Events for The Lieutenant Governor of Newfoundland and Labrador
BEGIN:VTIMEZONE
TZID:America/St_Johns
BEGIN:DAYLIGHT
TZOFFSETFROM:-0330
TZOFFSETTO:-0230
TZNAME:NDT
DTSTART:20180311T053000
END:DAYLIGHT
BEGIN:STANDARD
TZOFFSETFROM:-0230
TZOFFSETTO:-0330
TZNAME:NST
DTSTART:20181104T043000
END:STANDARD
END:VTIMEZONE
BEGIN:VEVENT
DTSTART;TZID=America/St_Johns:20181216T151500
DTEND;TZID=America/St_Johns:20181216T163000
DTSTAMP:20260423T193956
CREATED:20181213T184040Z
LAST-MODIFIED:20181213T184245Z
UID:3654-1544973300-1544977800@www.govhouse.nl.ca
SUMMARY:Visit to Kingsway Living
DESCRIPTION:Their Honours will make a Christmas Visit to Kingsway Living in Grand Bank.
URL:https://www.govhouse.nl.ca/event/visit-to-kingsway-living/
END:VEVENT
END:VCALENDAR