BEGIN:VCALENDAR
VERSION:2.0
PRODID:-//The Lieutenant Governor of Newfoundland and Labrador - ECPv5.10.0//NONSGML v1.0//EN
CALSCALE:GREGORIAN
METHOD:PUBLISH
X-WR-CALNAME:The Lieutenant Governor of Newfoundland and Labrador
X-ORIGINAL-URL:https://www.govhouse.nl.ca
X-WR-CALDESC:Events for The Lieutenant Governor of Newfoundland and Labrador
BEGIN:VTIMEZONE
TZID:America/St_Johns
BEGIN:DAYLIGHT
TZOFFSETFROM:-0330
TZOFFSETTO:-0230
TZNAME:NDT
DTSTART:20180311T053000
END:DAYLIGHT
BEGIN:STANDARD
TZOFFSETFROM:-0230
TZOFFSETTO:-0330
TZNAME:NST
DTSTART:20181104T043000
END:STANDARD
END:VTIMEZONE
BEGIN:VEVENT
DTSTART;TZID=America/St_Johns:20181216T140000
DTEND;TZID=America/St_Johns:20181216T150000
DTSTAMP:20260423T194455
CREATED:20181213T183811Z
LAST-MODIFIED:20181213T183811Z
UID:3652-1544968800-1544972400@www.govhouse.nl.ca
SUMMARY:Visit to Blue Crest Nursing Home
DESCRIPTION:Their Honours will pay a Christmas visit to Blue Crest Nursing Home in Grand Bank.
URL:https://www.govhouse.nl.ca/event/visit-to-blue-crest-nursing-home/
END:VEVENT
END:VCALENDAR