BEGIN:VCALENDAR
VERSION:2.0
PRODID:-//The Lieutenant Governor of Newfoundland and Labrador - ECPv5.10.0//NONSGML v1.0//EN
CALSCALE:GREGORIAN
METHOD:PUBLISH
X-WR-CALNAME:The Lieutenant Governor of Newfoundland and Labrador
X-ORIGINAL-URL:https://www.govhouse.nl.ca
X-WR-CALDESC:Events for The Lieutenant Governor of Newfoundland and Labrador
BEGIN:VTIMEZONE
TZID:America/St_Johns
BEGIN:DAYLIGHT
TZOFFSETFROM:-0330
TZOFFSETTO:-0230
TZNAME:NDT
DTSTART:20230312T053000
END:DAYLIGHT
BEGIN:STANDARD
TZOFFSETFROM:-0230
TZOFFSETTO:-0330
TZNAME:NST
DTSTART:20231105T043000
END:STANDARD
END:VTIMEZONE
BEGIN:VEVENT
DTSTART;TZID=America/St_Johns:20230713T200000
DTEND;TZID=America/St_Johns:20230713T220000
DTSTAMP:20260420T134845
CREATED:20230712T182716Z
LAST-MODIFIED:20230712T182716Z
UID:5722-1689278400-1689285600@www.govhouse.nl.ca
SUMMARY:Terra Bruce Productions - Let's Dance! The Musical
DESCRIPTION:July 13\, 2023\, 8:00 p.m.\, Her Honour\, the Honourable Judy M. Foote and His Honour Howard W. Foote will attend Terra Bruce Productions’ Let’s Dance! The Musical at Holy Heart Theatre\, St. John’s.
URL:https://www.govhouse.nl.ca/event/terra-bruce-productions-lets-dance-the-musical/
LOCATION:55 Bonaventure Avenue\, St. John’s
END:VEVENT
END:VCALENDAR