BEGIN:VCALENDAR
VERSION:2.0
PRODID:-//The Lieutenant Governor of Newfoundland and Labrador - ECPv5.10.0//NONSGML v1.0//EN
CALSCALE:GREGORIAN
METHOD:PUBLISH
X-WR-CALNAME:The Lieutenant Governor of Newfoundland and Labrador
X-ORIGINAL-URL:https://www.govhouse.nl.ca
X-WR-CALDESC:Events for The Lieutenant Governor of Newfoundland and Labrador
BEGIN:VTIMEZONE
TZID:America/St_Johns
BEGIN:DAYLIGHT
TZOFFSETFROM:-0330
TZOFFSETTO:-0230
TZNAME:NDT
DTSTART:20200308T053000
END:DAYLIGHT
BEGIN:STANDARD
TZOFFSETFROM:-0230
TZOFFSETTO:-0330
TZNAME:NST
DTSTART:20201101T043000
END:STANDARD
END:VTIMEZONE
BEGIN:VEVENT
DTSTART;TZID=America/St_Johns:20200818T120000
DTEND;TZID=America/St_Johns:20200818T130000
DTSTAMP:20260421T165037
CREATED:20200716T135814Z
LAST-MODIFIED:20200716T145700Z
UID:4853-1597752000-1597755600@www.govhouse.nl.ca
SUMMARY:T'ai Chi Chih On the Lawn
DESCRIPTION:Every Tuesday starting July 7\, T’ai Chi Chih On the Lawn will be offered (weather permitting) on the grounds of Government House for July\, August\, and September with instructor Sheila Leonard\, PBVM. \nPublic health guidelines will be followed for public gatherings on the grounds. The total number of individuals involved is limited to 50 and physical distancing is required. The grounds of Government House continue to remain open to the public and require physical distancing.
URL:https://www.govhouse.nl.ca/event/tai-chi-chih-on-the-lawn-5/
LOCATION:Government House\, Military Road\, St. John's\, Newfoundland and Labrador\, A1C 5W4\, Canada
END:VEVENT
END:VCALENDAR