BEGIN:VCALENDAR
VERSION:2.0
PRODID:-//The Lieutenant Governor of Newfoundland and Labrador - ECPv5.10.0//NONSGML v1.0//EN
CALSCALE:GREGORIAN
METHOD:PUBLISH
X-WR-CALNAME:The Lieutenant Governor of Newfoundland and Labrador
X-ORIGINAL-URL:https://www.govhouse.nl.ca
X-WR-CALDESC:Events for The Lieutenant Governor of Newfoundland and Labrador
BEGIN:VTIMEZONE
TZID:America/St_Johns
BEGIN:DAYLIGHT
TZOFFSETFROM:-0330
TZOFFSETTO:-0230
TZNAME:NDT
DTSTART:20200308T053000
END:DAYLIGHT
BEGIN:STANDARD
TZOFFSETFROM:-0230
TZOFFSETTO:-0330
TZNAME:NST
DTSTART:20201101T043000
END:STANDARD
END:VTIMEZONE
BEGIN:VEVENT
DTSTART;TZID=America/St_Johns:20201022T120000
DTEND;TZID=America/St_Johns:20201022T130000
DTSTAMP:20260421T095611
CREATED:20201015T151237Z
LAST-MODIFIED:20201022T124533Z
UID:5143-1603368000-1603371600@www.govhouse.nl.ca
SUMMARY:Swearing In of Premier Andrew Furey as MHA
DESCRIPTION:On Thursday\, October 22\, 2020\, 12:00 p.m.\, Her Honour will preside over the swearing in of Premier Andrew Furey as MHA for the District of Humber-Gros Morne. \nPublic health guidelines will be followed for public gatherings on the grounds. The grounds of Government House continue to remain open to the public and require physical distancing.
URL:https://www.govhouse.nl.ca/event/swearing-in-of-premier-andrew-furey-as-mha/
END:VEVENT
END:VCALENDAR