BEGIN:VCALENDAR
VERSION:2.0
PRODID:-//The Lieutenant Governor of Newfoundland and Labrador - ECPv5.10.0//NONSGML v1.0//EN
CALSCALE:GREGORIAN
METHOD:PUBLISH
X-WR-CALNAME:The Lieutenant Governor of Newfoundland and Labrador
X-ORIGINAL-URL:https://www.govhouse.nl.ca
X-WR-CALDESC:Events for The Lieutenant Governor of Newfoundland and Labrador
BEGIN:VTIMEZONE
TZID:America/St_Johns
BEGIN:DAYLIGHT
TZOFFSETFROM:-0330
TZOFFSETTO:-0230
TZNAME:NDT
DTSTART:20210314T053000
END:DAYLIGHT
BEGIN:STANDARD
TZOFFSETFROM:-0230
TZOFFSETTO:-0330
TZNAME:NST
DTSTART:20211107T043000
END:STANDARD
END:VTIMEZONE
BEGIN:VEVENT
DTSTART;TZID=America/St_Johns:20210412T100000
DTEND;TZID=America/St_Johns:20210412T120000
DTSTAMP:20260421T095711
CREATED:20210409T190603Z
LAST-MODIFIED:20210409T190603Z
UID:5212-1618221600-1618228800@www.govhouse.nl.ca
SUMMARY:Swearing-In Ceremony for Members of the House of Assembly
DESCRIPTION:The ceremony in which Her Honour will swear-in members of the House of Assembly for the 50th General Assembly will take place at 10:00 a.m. on Monday\, April 12th at the Confederation Building.
URL:https://www.govhouse.nl.ca/event/swearing-in-ceremony-for-members-of-the-house-of-assembly/
END:VEVENT
END:VCALENDAR