BEGIN:VCALENDAR
VERSION:2.0
PRODID:-//The Lieutenant Governor of Newfoundland and Labrador - ECPv5.10.0//NONSGML v1.0//EN
CALSCALE:GREGORIAN
METHOD:PUBLISH
X-WR-CALNAME:The Lieutenant Governor of Newfoundland and Labrador
X-ORIGINAL-URL:https://www.govhouse.nl.ca
X-WR-CALDESC:Events for The Lieutenant Governor of Newfoundland and Labrador
BEGIN:VTIMEZONE
TZID:America/St_Johns
BEGIN:DAYLIGHT
TZOFFSETFROM:-0330
TZOFFSETTO:-0230
TZNAME:NDT
DTSTART:20230312T053000
END:DAYLIGHT
BEGIN:STANDARD
TZOFFSETFROM:-0230
TZOFFSETTO:-0330
TZNAME:NST
DTSTART:20231105T043000
END:STANDARD
END:VTIMEZONE
BEGIN:VEVENT
DTSTART;TZID=America/St_Johns:20231111T143000
DTEND;TZID=America/St_Johns:20231111T160000
DTSTAMP:20260419T230412
CREATED:20231101T170910Z
LAST-MODIFIED:20231101T170910Z
UID:6323-1699713000-1699718400@www.govhouse.nl.ca
SUMMARY:Remembrance Day Ceremony at the Caribou Memorial Veterans Pavilion
DESCRIPTION:November 11\, 2023\, 2:30 p.m.\, Their Honours will participate in in the Remembrance Day Ceremony at the Caribou Memorial Veterans Pavilion\, St. John’s.
URL:https://www.govhouse.nl.ca/event/remembrance-day-ceremony-at-the-caribou-memorial-veterans-pavilion/
LOCATION:Caribou Memorial Veterans Pavilion\, 100 Forest Road\, St. John's\, Newfoundland and Labrador\, Canada
END:VEVENT
END:VCALENDAR