BEGIN:VCALENDAR
VERSION:2.0
PRODID:-//The Lieutenant Governor of Newfoundland and Labrador - ECPv5.10.0//NONSGML v1.0//EN
CALSCALE:GREGORIAN
METHOD:PUBLISH
X-WR-CALNAME:The Lieutenant Governor of Newfoundland and Labrador
X-ORIGINAL-URL:https://www.govhouse.nl.ca
X-WR-CALDESC:Events for The Lieutenant Governor of Newfoundland and Labrador
BEGIN:VTIMEZONE
TZID:America/St_Johns
BEGIN:DAYLIGHT
TZOFFSETFROM:-0330
TZOFFSETTO:-0230
TZNAME:NDT
DTSTART:20230312T053000
END:DAYLIGHT
BEGIN:STANDARD
TZOFFSETFROM:-0230
TZOFFSETTO:-0330
TZNAME:NST
DTSTART:20231105T043000
END:STANDARD
END:VTIMEZONE
BEGIN:VEVENT
DTSTART;TZID=America/St_Johns:20231109T110000
DTEND;TZID=America/St_Johns:20231109T123000
DTSTAMP:20260419T230146
CREATED:20231101T165900Z
LAST-MODIFIED:20231101T165900Z
UID:6305-1699527600-1699533000@www.govhouse.nl.ca
SUMMARY:Remembrance Day Ceremony at Queen Elizabeth High School
DESCRIPTION:November 9\, 2023\, 11:00 a.m.\, Her Honour\, The Honourable Judy M. Foote\, Lieutenant Governor of Newfoundland and Labrador\, will participate in a Remembrance Day Ceremony at Queen Elizabeth High School\, Conception Bay South.
URL:https://www.govhouse.nl.ca/event/remembrance-day-ceremony-at-queen-elizabeth-high-school/
END:VEVENT
END:VCALENDAR