BEGIN:VCALENDAR
VERSION:2.0
PRODID:-//The Lieutenant Governor of Newfoundland and Labrador - ECPv5.10.0//NONSGML v1.0//EN
CALSCALE:GREGORIAN
METHOD:PUBLISH
X-WR-CALNAME:The Lieutenant Governor of Newfoundland and Labrador
X-ORIGINAL-URL:https://www.govhouse.nl.ca
X-WR-CALDESC:Events for The Lieutenant Governor of Newfoundland and Labrador
BEGIN:VTIMEZONE
TZID:America/St_Johns
BEGIN:DAYLIGHT
TZOFFSETFROM:-0330
TZOFFSETTO:-0230
TZNAME:NDT
DTSTART:20210314T053000
END:DAYLIGHT
BEGIN:STANDARD
TZOFFSETFROM:-0230
TZOFFSETTO:-0330
TZNAME:NST
DTSTART:20211107T043000
END:STANDARD
END:VTIMEZONE
BEGIN:VEVENT
DTSTART;TZID=America/St_Johns:20210414T133000
DTEND;TZID=America/St_Johns:20210414T143000
DTSTAMP:20260421T095141
CREATED:20210413T151740Z
LAST-MODIFIED:20210413T182102Z
UID:5219-1618407000-1618410600@www.govhouse.nl.ca
SUMMARY:Provincial Commemorative Service for His Royal Highness Prince Phillip
DESCRIPTION:Her Honour\, The Honourable Judy M. Foote\, Lieutenant Governor of Newfoundland and Labrador will attend and participate in a commemorative service in celebration of the life of His Royal Highness\, Prince Philip\, Duke of Edinburgh on Wednesday\, April 14 at 1:30 p.m. at the Cathedral of St. John the Baptist in St. John’s. \nDue to public health guidelines\, attendance at the commemorative service is by invitation only\, however the ceremony will be streamed live on the Government of Newfoundland and Labrador’s Twitter\, Facebook and YouTube accounts and on Her Honour’s Facebook page.
URL:https://www.govhouse.nl.ca/event/provincial-commemorative-service-for-prince-phillip/
END:VEVENT
END:VCALENDAR