BEGIN:VCALENDAR
VERSION:2.0
PRODID:-//The Lieutenant Governor of Newfoundland and Labrador - ECPv5.10.0//NONSGML v1.0//EN
CALSCALE:GREGORIAN
METHOD:PUBLISH
X-WR-CALNAME:The Lieutenant Governor of Newfoundland and Labrador
X-ORIGINAL-URL:https://www.govhouse.nl.ca
X-WR-CALDESC:Events for The Lieutenant Governor of Newfoundland and Labrador
BEGIN:VTIMEZONE
TZID:America/St_Johns
BEGIN:DAYLIGHT
TZOFFSETFROM:-0330
TZOFFSETTO:-0230
TZNAME:NDT
DTSTART:20230312T053000
END:DAYLIGHT
BEGIN:STANDARD
TZOFFSETFROM:-0230
TZOFFSETTO:-0330
TZNAME:NST
DTSTART:20231105T043000
END:STANDARD
END:VTIMEZONE
BEGIN:VEVENT
DTSTART;TZID=America/St_Johns:20230926T150000
DTEND;TZID=America/St_Johns:20230926T160000
DTSTAMP:20260420T091038
CREATED:20230920T155211Z
LAST-MODIFIED:20230920T155211Z
UID:6054-1695740400-1695744000@www.govhouse.nl.ca
SUMMARY:Proclamation Signing - 2023 Cadet Week
DESCRIPTION:September 26\, 2023\, 3:00 p.m.\, Her Honour\, The Honourable Judy M. Foote\, Lieutenant Governor of Newfoundland and Labrador\, will sign the 2023 Cadet Week Proclamation at Government House.
URL:https://www.govhouse.nl.ca/event/proclamation-signing-2023-cadet-week/
LOCATION:50 Military Road\, St. John’s\, N.L. A1C 5W4
END:VEVENT
END:VCALENDAR