BEGIN:VCALENDAR
VERSION:2.0
PRODID:-//The Lieutenant Governor of Newfoundland and Labrador - ECPv5.10.0//NONSGML v1.0//EN
CALSCALE:GREGORIAN
METHOD:PUBLISH
X-WR-CALNAME:The Lieutenant Governor of Newfoundland and Labrador
X-ORIGINAL-URL:https://www.govhouse.nl.ca
X-WR-CALDESC:Events for The Lieutenant Governor of Newfoundland and Labrador
BEGIN:VTIMEZONE
TZID:America/St_Johns
BEGIN:DAYLIGHT
TZOFFSETFROM:-0330
TZOFFSETTO:-0230
TZNAME:NDT
DTSTART:20190310T053000
END:DAYLIGHT
BEGIN:STANDARD
TZOFFSETFROM:-0230
TZOFFSETTO:-0330
TZNAME:NST
DTSTART:20191103T043000
END:STANDARD
END:VTIMEZONE
BEGIN:VEVENT
DTSTART;TZID=America/St_Johns:20190914T090000
DTEND;TZID=America/St_Johns:20190914T100000
DTSTAMP:20260422T091715
CREATED:20190729T141906Z
LAST-MODIFIED:20190729T141906Z
UID:4472-1568451600-1568455200@www.govhouse.nl.ca
SUMMARY:Ovarian Cancer Research and Education "Exposium 2019"
DESCRIPTION:
URL:https://www.govhouse.nl.ca/event/ovarian-cancer-research-and-education-exposium-2019/
LOCATION:MUN Faculty of Medicine\, 300 Prince Philip Drive\, St. John's\, NL\, A1B 3V6\, Canada
END:VEVENT
END:VCALENDAR