BEGIN:VCALENDAR
VERSION:2.0
PRODID:-//The Lieutenant Governor of Newfoundland and Labrador - ECPv5.10.0//NONSGML v1.0//EN
CALSCALE:GREGORIAN
METHOD:PUBLISH
X-WR-CALNAME:The Lieutenant Governor of Newfoundland and Labrador
X-ORIGINAL-URL:https://www.govhouse.nl.ca
X-WR-CALDESC:Events for The Lieutenant Governor of Newfoundland and Labrador
BEGIN:VTIMEZONE
TZID:America/St_Johns
BEGIN:DAYLIGHT
TZOFFSETFROM:-0330
TZOFFSETTO:-0230
TZNAME:NDT
DTSTART:20220313T053000
END:DAYLIGHT
BEGIN:STANDARD
TZOFFSETFROM:-0230
TZOFFSETTO:-0330
TZNAME:NST
DTSTART:20221106T043000
END:STANDARD
END:VTIMEZONE
BEGIN:VEVENT
DTSTART;TZID=America/St_Johns:20220921T183000
DTEND;TZID=America/St_Johns:20220921T203000
DTSTAMP:20260421T080709
CREATED:20220915T123939Z
LAST-MODIFIED:20220915T123939Z
UID:5488-1663785000-1663792200@www.govhouse.nl.ca
SUMMARY:Open House to Celebrate the life of Her Majesty Queen Elizabeth II
DESCRIPTION:To mark the extraordinary life and legacy of Her Majesty Queen Elizabeth II\, Government House is hosting an open house from 6:30-8:30 p.m.\, Wednesday\, September 21\, 2022.\n\nJoin us to celebrate the life of our Late Queen\, and explore Newfoundland and Labrador’s viceregal residence.\n\nThe Book of Condolences will be available for members of the public to sign during the open house.
URL:https://www.govhouse.nl.ca/event/open-house-to-celebrate-the-life-of-her-majesty-queen-elizabeth-ii/
LOCATION:50 Military Road\, St. John’s\, N.L. A1C 5W4
END:VEVENT
END:VCALENDAR