BEGIN:VCALENDAR
VERSION:2.0
PRODID:-//The Lieutenant Governor of Newfoundland and Labrador - ECPv5.10.0//NONSGML v1.0//EN
CALSCALE:GREGORIAN
METHOD:PUBLISH
X-WR-CALNAME:The Lieutenant Governor of Newfoundland and Labrador
X-ORIGINAL-URL:https://www.govhouse.nl.ca
X-WR-CALDESC:Events for The Lieutenant Governor of Newfoundland and Labrador
BEGIN:VTIMEZONE
TZID:America/St_Johns
BEGIN:DAYLIGHT
TZOFFSETFROM:-0330
TZOFFSETTO:-0230
TZNAME:NDT
DTSTART:20230312T053000
END:DAYLIGHT
BEGIN:STANDARD
TZOFFSETFROM:-0230
TZOFFSETTO:-0330
TZNAME:NST
DTSTART:20231105T043000
END:STANDARD
END:VTIMEZONE
BEGIN:VEVENT
DTSTART;TZID=America/St_Johns:20231027T190000
DTEND;TZID=America/St_Johns:20231027T213000
DTSTAMP:20260420T002946
CREATED:20231019T135058Z
LAST-MODIFIED:20231019T135058Z
UID:6243-1698433200-1698442200@www.govhouse.nl.ca
SUMMARY:Newfoundland Symphony Orchestra’s “Hallowe’en Spooktacular”
DESCRIPTION:October 27\, 2023\, 7:00 p.m.\, Their Honours will attend the Newfoundland Symphony Orchestra’s “Hallowe’en Spooktacular” at The Arts and Culture Centre\, St. John’s.
URL:https://www.govhouse.nl.ca/event/newfoundland-symphony-orchestras-halloween-spooktacular/
LOCATION:St. John’s Arts and Culture Centre
END:VEVENT
END:VCALENDAR