BEGIN:VCALENDAR
VERSION:2.0
PRODID:-//The Lieutenant Governor of Newfoundland and Labrador - ECPv5.10.0//NONSGML v1.0//EN
CALSCALE:GREGORIAN
METHOD:PUBLISH
X-WR-CALNAME:The Lieutenant Governor of Newfoundland and Labrador
X-ORIGINAL-URL:https://www.govhouse.nl.ca
X-WR-CALDESC:Events for The Lieutenant Governor of Newfoundland and Labrador
BEGIN:VTIMEZONE
TZID:America/St_Johns
BEGIN:DAYLIGHT
TZOFFSETFROM:-0330
TZOFFSETTO:-0230
TZNAME:NDT
DTSTART:20230312T053000
END:DAYLIGHT
BEGIN:STANDARD
TZOFFSETFROM:-0230
TZOFFSETTO:-0330
TZNAME:NST
DTSTART:20231105T043000
END:STANDARD
END:VTIMEZONE
BEGIN:VEVENT
DTSTART;TZID=America/St_Johns:20231124T190000
DTEND;TZID=America/St_Johns:20231124T213000
DTSTAMP:20260419T181444
CREATED:20231124T152034Z
LAST-MODIFIED:20231124T152034Z
UID:6418-1700852400-1700861400@www.govhouse.nl.ca
SUMMARY:Newfoundland Symphony Orchestra's Christmas at the Movies
DESCRIPTION:November 24\, 2023\, 7:00 p.m.\, Her Honour\, The Honourable Joan Marie J. Aylward\, Lieutenant Governor of Newfoundland and Labrador\, and His Honour\, The Honourable Carl R. Thompson will attend Newfoundland Symphony Orchestra’s Christmas at the Movies\, at the Arts and Culture Centre\, St. John’s.
URL:https://www.govhouse.nl.ca/event/newfoundland-symphony-orchestras-christmas-at-the-movies/
LOCATION:St. John’s Arts and Culture Centre
END:VEVENT
END:VCALENDAR