BEGIN:VCALENDAR
VERSION:2.0
PRODID:-//The Lieutenant Governor of Newfoundland and Labrador - ECPv5.10.0//NONSGML v1.0//EN
CALSCALE:GREGORIAN
METHOD:PUBLISH
X-WR-CALNAME:The Lieutenant Governor of Newfoundland and Labrador
X-ORIGINAL-URL:https://www.govhouse.nl.ca
X-WR-CALDESC:Events for The Lieutenant Governor of Newfoundland and Labrador
BEGIN:VTIMEZONE
TZID:America/St_Johns
BEGIN:DAYLIGHT
TZOFFSETFROM:-0330
TZOFFSETTO:-0230
TZNAME:NDT
DTSTART:20230312T053000
END:DAYLIGHT
BEGIN:STANDARD
TZOFFSETFROM:-0230
TZOFFSETTO:-0330
TZNAME:NST
DTSTART:20231105T043000
END:STANDARD
END:VTIMEZONE
BEGIN:VEVENT
DTSTART;TZID=America/St_Johns:20230731T110000
DTEND;TZID=America/St_Johns:20230731T113000
DTSTAMP:20260420T152635
CREATED:20230731T111008Z
LAST-MODIFIED:20230731T111538Z
UID:5773-1690801200-1690803000@www.govhouse.nl.ca
SUMMARY:Meeting with Members of the Rolling Barrage
DESCRIPTION:July 31\, 2023\, 11:00 a.m.\, Her Honour\, The Honourable Judy M. Foote\, Lieutenant Governor of Newfoundland and Labrador\, and His Honour\, Howard W. Foote\, will meet\, on the grounds of Government House\, with members of the Rolling Barrage\, a yearly coast to coast to coast motorcycle ride across Canada to raise awareness about PTSD. \n 
URL:https://www.govhouse.nl.ca/event/meeting-with-members-of-the-rolling-barrage/
LOCATION:Government House
END:VEVENT
END:VCALENDAR