BEGIN:VCALENDAR
VERSION:2.0
PRODID:-//The Lieutenant Governor of Newfoundland and Labrador - ECPv5.10.0//NONSGML v1.0//EN
CALSCALE:GREGORIAN
METHOD:PUBLISH
X-WR-CALNAME:The Lieutenant Governor of Newfoundland and Labrador
X-ORIGINAL-URL:https://www.govhouse.nl.ca
X-WR-CALDESC:Events for The Lieutenant Governor of Newfoundland and Labrador
BEGIN:VTIMEZONE
TZID:America/St_Johns
BEGIN:DAYLIGHT
TZOFFSETFROM:-0330
TZOFFSETTO:-0230
TZNAME:NDT
DTSTART:20200308T053000
END:DAYLIGHT
BEGIN:STANDARD
TZOFFSETFROM:-0230
TZOFFSETTO:-0330
TZNAME:NST
DTSTART:20201101T043000
END:STANDARD
END:VTIMEZONE
BEGIN:VEVENT
DTSTART;TZID=America/St_Johns:20200904T120000
DTEND;TZID=America/St_Johns:20200904T130000
DTSTAMP:20260421T145552
CREATED:20200831T152053Z
LAST-MODIFIED:20200831T152053Z
UID:5013-1599220800-1599224400@www.govhouse.nl.ca
SUMMARY:Lunchtime Theatre Performance Series - White Rooster Theatre
DESCRIPTION:On Friday\, September 4\, 2020\, the lunchtime theatre performances continues on the grounds of Government House 12 – 1 p.m.\, as part of the ongoing Government House COVID-19 Community Outreach Program. \nThe third in this series will feature an adapted version of Other Women Walk produced by White Rooster Theatre. \nThe program provides outdoor space for performances by artists where COVID-19 healthcare guidelines can be followed. \nProceeds from these ticketed events\, managed entirely by the artists\, go directly to the performers. \nFurther details for this performance are available at https://www.facebook.com/WhiteRoosterTheatre or https://www.facebook.com/events/3728251060552285/
URL:https://www.govhouse.nl.ca/event/lunchtime-theatre-performance-series-white-rooster-theatre/
END:VEVENT
END:VCALENDAR