BEGIN:VCALENDAR
VERSION:2.0
PRODID:-//The Lieutenant Governor of Newfoundland and Labrador - ECPv5.10.0//NONSGML v1.0//EN
CALSCALE:GREGORIAN
METHOD:PUBLISH
X-WR-CALNAME:The Lieutenant Governor of Newfoundland and Labrador
X-ORIGINAL-URL:https://www.govhouse.nl.ca
X-WR-CALDESC:Events for The Lieutenant Governor of Newfoundland and Labrador
BEGIN:VTIMEZONE
TZID:America/St_Johns
BEGIN:DAYLIGHT
TZOFFSETFROM:-0330
TZOFFSETTO:-0230
TZNAME:NDT
DTSTART:20200308T053000
END:DAYLIGHT
BEGIN:STANDARD
TZOFFSETFROM:-0230
TZOFFSETTO:-0330
TZNAME:NST
DTSTART:20201101T043000
END:STANDARD
END:VTIMEZONE
BEGIN:VEVENT
DTSTART;TZID=America/St_Johns:20200821T120000
DTEND;TZID=America/St_Johns:20200821T130000
DTSTAMP:20260421T164746
CREATED:20200814T125858Z
LAST-MODIFIED:20200818T133159Z
UID:4962-1598011200-1598014800@www.govhouse.nl.ca
SUMMARY:Lunchtime Theatre Performance Series - Berni Stapleton
DESCRIPTION:On Friday\, August 21\, 2020\, the first in a series of lunchtime theatre performances will take place on the grounds of Government House 12 – 1 p.m.\, as part of the ongoing Government House COVID-19 Community Outreach Program. \nThe first in this series will feature Berni Stapleton performing her newly created The Silent Pitcher Theatre Show. \nThe program provides outdoor space for performances by artists where COVID-19 healthcare guidelines can be followed. \nProceeds from these ticketed events\, managed entirely by the artists\, go directly to the performers. \nFurther details for this performance are available at www.bernistapleton.com \nOr\, visit https://www.eventbrite.ca/e/silent-theatre-pitcher-show-tickets-116887703267.
URL:https://www.govhouse.nl.ca/event/lunchtime-theatre-performance-series-berni-stapleton/
END:VEVENT
END:VCALENDAR