BEGIN:VCALENDAR
VERSION:2.0
PRODID:-//The Lieutenant Governor of Newfoundland and Labrador - ECPv5.10.0//NONSGML v1.0//EN
CALSCALE:GREGORIAN
METHOD:PUBLISH
X-WR-CALNAME:The Lieutenant Governor of Newfoundland and Labrador
X-ORIGINAL-URL:https://www.govhouse.nl.ca
X-WR-CALDESC:Events for The Lieutenant Governor of Newfoundland and Labrador
BEGIN:VTIMEZONE
TZID:America/St_Johns
BEGIN:DAYLIGHT
TZOFFSETFROM:-0330
TZOFFSETTO:-0230
TZNAME:NDT
DTSTART:20230312T053000
END:DAYLIGHT
BEGIN:STANDARD
TZOFFSETFROM:-0230
TZOFFSETTO:-0330
TZNAME:NST
DTSTART:20231105T043000
END:STANDARD
END:VTIMEZONE
BEGIN:VEVENT
DTSTART;TZID=America/St_Johns:20230911T110000
DTEND;TZID=America/St_Johns:20230911T120000
DTSTAMP:20260420T135756
CREATED:20230914T125549Z
LAST-MODIFIED:20230914T125642Z
UID:5982-1694430000-1694433600@www.govhouse.nl.ca
SUMMARY:Knights of Columbus Interfaith Prayer Service
DESCRIPTION:September 11\, 2023\, 11:00 a.m.\, Her Honour\, The Honourable Judy M. Foote\, Lieutenant Governor of Newfoundland and Labrador\, and His Honour\, Howard W. Foote\, will attend the Knights of Columbus Interfaith Prayer Service at the Cathedral of St. John the Baptist Basilica\, St. John’s.
URL:https://www.govhouse.nl.ca/event/knights-of-columbus-interfaith-prayer-service/
LOCATION:Basilica Cathedral of St. John the Baptist
END:VEVENT
END:VCALENDAR