BEGIN:VCALENDAR
VERSION:2.0
PRODID:-//The Lieutenant Governor of Newfoundland and Labrador - ECPv5.10.0//NONSGML v1.0//EN
CALSCALE:GREGORIAN
METHOD:PUBLISH
X-WR-CALNAME:The Lieutenant Governor of Newfoundland and Labrador
X-ORIGINAL-URL:https://www.govhouse.nl.ca
X-WR-CALDESC:Events for The Lieutenant Governor of Newfoundland and Labrador
BEGIN:VTIMEZONE
TZID:America/St_Johns
BEGIN:DAYLIGHT
TZOFFSETFROM:-0330
TZOFFSETTO:-0230
TZNAME:NDT
DTSTART:20230312T053000
END:DAYLIGHT
BEGIN:STANDARD
TZOFFSETFROM:-0230
TZOFFSETTO:-0330
TZNAME:NST
DTSTART:20231105T043000
END:STANDARD
END:VTIMEZONE
BEGIN:VEVENT
DTSTART;TZID=America/St_Johns:20230717T183000
DTEND;TZID=America/St_Johns:20230717T200000
DTSTAMP:20260420T033031
CREATED:20230712T172903Z
LAST-MODIFIED:20230712T172903Z
UID:5716-1689618600-1689624000@www.govhouse.nl.ca
SUMMARY:Kittiwake Dance Theatre - Ballet at Bowring
DESCRIPTION:July 17\, 2023\, 6:30 p.m.\, Her Honour\, the Honourable Judy M. Foote and His Honour Howard W. Foote will attend the Kittiwake Dance Theatre’s Ballet at Bowring performance at the Cabot 500 Amphitheatre\, Bowring Park.
URL:https://www.govhouse.nl.ca/event/kittiwake-dance-theatre-ballet-at-bowring/
LOCATION:Cabot 500 Amphitheatre\, Bowring Park
END:VEVENT
END:VCALENDAR