BEGIN:VCALENDAR
VERSION:2.0
PRODID:-//The Lieutenant Governor of Newfoundland and Labrador - ECPv5.10.0//NONSGML v1.0//EN
CALSCALE:GREGORIAN
METHOD:PUBLISH
X-WR-CALNAME:The Lieutenant Governor of Newfoundland and Labrador
X-ORIGINAL-URL:https://www.govhouse.nl.ca
X-WR-CALDESC:Events for The Lieutenant Governor of Newfoundland and Labrador
BEGIN:VTIMEZONE
TZID:America/St_Johns
BEGIN:DAYLIGHT
TZOFFSETFROM:-0330
TZOFFSETTO:-0230
TZNAME:NDT
DTSTART:20200308T053000
END:DAYLIGHT
BEGIN:STANDARD
TZOFFSETFROM:-0230
TZOFFSETTO:-0330
TZNAME:NST
DTSTART:20201101T043000
END:STANDARD
END:VTIMEZONE
BEGIN:VEVENT
DTSTART;TZID=America/St_Johns:20201203T110000
DTEND;TZID=America/St_Johns:20201203T120000
DTSTAMP:20260421T094642
CREATED:20201118T194634Z
LAST-MODIFIED:20201118T194634Z
UID:5161-1606993200-1606996800@www.govhouse.nl.ca
SUMMARY:International Day for Persons with Disabilities Award Ceremony
DESCRIPTION:Public health guidelines will be followed for public gatherings on the grounds. The grounds of Government House continue to remain open to the public and require physical distancing.
URL:https://www.govhouse.nl.ca/event/international-day-for-persons-with-disabilities-award-ceremony/
LOCATION:Government House\, Military Road\, St. John's\, Newfoundland and Labrador\, A1C 5W4\, Canada
END:VEVENT
END:VCALENDAR