BEGIN:VCALENDAR
VERSION:2.0
PRODID:-//The Lieutenant Governor of Newfoundland and Labrador - ECPv5.10.0//NONSGML v1.0//EN
CALSCALE:GREGORIAN
METHOD:PUBLISH
X-WR-CALNAME:The Lieutenant Governor of Newfoundland and Labrador
X-ORIGINAL-URL:https://www.govhouse.nl.ca
X-WR-CALDESC:Events for The Lieutenant Governor of Newfoundland and Labrador
BEGIN:VTIMEZONE
TZID:America/St_Johns
BEGIN:DAYLIGHT
TZOFFSETFROM:-0330
TZOFFSETTO:-0230
TZNAME:NDT
DTSTART:20220313T053000
END:DAYLIGHT
BEGIN:STANDARD
TZOFFSETFROM:-0230
TZOFFSETTO:-0330
TZNAME:NST
DTSTART:20221106T043000
END:STANDARD
END:VTIMEZONE
BEGIN:VEVENT
DTSTART;TZID=America/St_Johns:20221202T110000
DTEND;TZID=America/St_Johns:20221202T123000
DTSTAMP:20260421T094306
CREATED:20221102T142217Z
LAST-MODIFIED:20221128T153507Z
UID:5541-1669978800-1669984200@www.govhouse.nl.ca
SUMMARY:International Day for Persons with Disabilities Award Ceremony
DESCRIPTION:Private event.
URL:https://www.govhouse.nl.ca/event/international-day-for-persons-with-disabilities-award-ceremony-2/
LOCATION:50 Military Road\, St. John’s\, N.L. A1C 5W4
END:VEVENT
END:VCALENDAR