BEGIN:VCALENDAR
VERSION:2.0
PRODID:-//The Lieutenant Governor of Newfoundland and Labrador - ECPv5.10.0//NONSGML v1.0//EN
CALSCALE:GREGORIAN
METHOD:PUBLISH
X-WR-CALNAME:The Lieutenant Governor of Newfoundland and Labrador
X-ORIGINAL-URL:https://www.govhouse.nl.ca
X-WR-CALDESC:Events for The Lieutenant Governor of Newfoundland and Labrador
BEGIN:VTIMEZONE
TZID:America/St_Johns
BEGIN:DAYLIGHT
TZOFFSETFROM:-0330
TZOFFSETTO:-0230
TZNAME:NDT
DTSTART:20230312T053000
END:DAYLIGHT
BEGIN:STANDARD
TZOFFSETFROM:-0230
TZOFFSETTO:-0330
TZNAME:NST
DTSTART:20231105T043000
END:STANDARD
END:VTIMEZONE
BEGIN:VEVENT
DTSTART;TZID=America/St_Johns:20230811T190000
DTEND;TZID=America/St_Johns:20230811T220000
DTSTAMP:20260420T213922
CREATED:20230803T130103Z
LAST-MODIFIED:20230803T130103Z
UID:5871-1691780400-1691791200@www.govhouse.nl.ca
SUMMARY:Grand Bank Theatre - The Known Solider
DESCRIPTION:August 11\, 2023\, 7:00 p.m.\, Her Honour\, The Honourable Judy M. Foote\, Lieutenant Governor of Newfoundland and Labrador\, and His Honour\, Howard W. Foote\, will attend “The Known Solider” performance at the Grand Bank Theatre\, Grand Bank.
URL:https://www.govhouse.nl.ca/event/grand-bank-theatre-the-known-solider/
LOCATION:Grand Bank Theatre\, Grandview Blvd\, Grand Bank\, Newfoundland and Labrador\, A0E 1W0
END:VEVENT
END:VCALENDAR