BEGIN:VCALENDAR
VERSION:2.0
PRODID:-//The Lieutenant Governor of Newfoundland and Labrador - ECPv5.10.0//NONSGML v1.0//EN
CALSCALE:GREGORIAN
METHOD:PUBLISH
X-WR-CALNAME:The Lieutenant Governor of Newfoundland and Labrador
X-ORIGINAL-URL:https://www.govhouse.nl.ca
X-WR-CALDESC:Events for The Lieutenant Governor of Newfoundland and Labrador
BEGIN:VTIMEZONE
TZID:America/St_Johns
BEGIN:DAYLIGHT
TZOFFSETFROM:-0330
TZOFFSETTO:-0230
TZNAME:NDT
DTSTART:20190310T053000
END:DAYLIGHT
BEGIN:STANDARD
TZOFFSETFROM:-0230
TZOFFSETTO:-0330
TZNAME:NST
DTSTART:20191103T043000
END:STANDARD
END:VTIMEZONE
BEGIN:VEVENT
DTSTART;TZID=America/St_Johns:20190728T140000
DTEND;TZID=America/St_Johns:20190728T150000
DTSTAMP:20260422T224058
CREATED:20190726T175348Z
LAST-MODIFIED:20190726T175530Z
UID:4446-1564322400-1564326000@www.govhouse.nl.ca
SUMMARY:Grand Bank Heritage Society's Annual Mariners' Memorial Service
DESCRIPTION:
URL:https://www.govhouse.nl.ca/event/grand-bank-heritage-societys-annual-mariners-memorial-service/
LOCATION:The George C. Harris House\, Water Street\, Grand Bank\, NL\, Canada
END:VEVENT
END:VCALENDAR