BEGIN:VCALENDAR
VERSION:2.0
PRODID:-//The Lieutenant Governor of Newfoundland and Labrador - ECPv5.10.0//NONSGML v1.0//EN
CALSCALE:GREGORIAN
METHOD:PUBLISH
X-WR-CALNAME:The Lieutenant Governor of Newfoundland and Labrador
X-ORIGINAL-URL:https://www.govhouse.nl.ca
X-WR-CALDESC:Events for The Lieutenant Governor of Newfoundland and Labrador
BEGIN:VTIMEZONE
TZID:America/St_Johns
BEGIN:DAYLIGHT
TZOFFSETFROM:-0330
TZOFFSETTO:-0230
TZNAME:NDT
DTSTART:20230312T053000
END:DAYLIGHT
BEGIN:STANDARD
TZOFFSETFROM:-0230
TZOFFSETTO:-0330
TZNAME:NST
DTSTART:20231105T043000
END:STANDARD
END:VTIMEZONE
BEGIN:VEVENT
DTSTART;TZID=America/St_Johns:20230930T090000
DTEND;TZID=America/St_Johns:20230930T235900
DTSTAMP:20260420T073050
CREATED:20230920T155859Z
LAST-MODIFIED:20230927T142221Z
UID:6064-1696064400-1696118340@www.govhouse.nl.ca
SUMMARY:Government House Lighting - National Day for Truth and Reconciliation (Orange Shirt Day)
DESCRIPTION:September 30\, 2023\, Government House will be lit orange for National Day for Truth and Reconciliation (Orange Shirt Day)\, in honour of the Indigenous Survivors of residential schools and children who never returned home\, as well as their families and communities. \nOn this day\, and always\, members of the public are invited to visit the Heart Garden on the grounds of Government House to reflect upon the tragic and painful history of residential schools.
URL:https://www.govhouse.nl.ca/event/government-house-lighting-national-day-for-truth-and-reconciliation-orange-shirt-day/
LOCATION:50 Military Road\, St. John’s\, N.L. A1C 5W4
END:VEVENT
END:VCALENDAR