BEGIN:VCALENDAR
VERSION:2.0
PRODID:-//The Lieutenant Governor of Newfoundland and Labrador - ECPv5.10.0//NONSGML v1.0//EN
CALSCALE:GREGORIAN
METHOD:PUBLISH
X-WR-CALNAME:The Lieutenant Governor of Newfoundland and Labrador
X-ORIGINAL-URL:https://www.govhouse.nl.ca
X-WR-CALDESC:Events for The Lieutenant Governor of Newfoundland and Labrador
BEGIN:VTIMEZONE
TZID:America/St_Johns
BEGIN:DAYLIGHT
TZOFFSETFROM:-0330
TZOFFSETTO:-0230
TZNAME:NDT
DTSTART:20230312T053000
END:DAYLIGHT
BEGIN:STANDARD
TZOFFSETFROM:-0230
TZOFFSETTO:-0330
TZNAME:NST
DTSTART:20231105T043000
END:STANDARD
END:VTIMEZONE
BEGIN:VEVENT
DTSTART;TZID=America/St_Johns:20231209T170000
DTEND;TZID=America/St_Johns:20231209T235900
DTSTAMP:20260419T162949
CREATED:20231204T204015Z
LAST-MODIFIED:20231208T135553Z
UID:6523-1702141200-1702166340@www.govhouse.nl.ca
SUMMARY:Government House Lighting - International Day of Commemoration and Dignity of the Victims of the Crime of Genocide and the Prevention of this Crime
DESCRIPTION:December 9\, 2023\, Government House will be lit purple and white in recognition of International Day of Commemoration and Dignity of the Victims of the Crime of Genocide and the Prevention of this Crime.
URL:https://www.govhouse.nl.ca/event/government-house-lighting-international-day-of-commemoration-and-dignity-of-the-victims-of-the-crime-of-genocide-and-the-prevention-of-this-crime/
LOCATION:50 Military Road\, St. John’s\, N.L. A1C 5W4
END:VEVENT
END:VCALENDAR