BEGIN:VCALENDAR
VERSION:2.0
PRODID:-//The Lieutenant Governor of Newfoundland and Labrador - ECPv5.10.0//NONSGML v1.0//EN
CALSCALE:GREGORIAN
METHOD:PUBLISH
X-WR-CALNAME:The Lieutenant Governor of Newfoundland and Labrador
X-ORIGINAL-URL:https://www.govhouse.nl.ca
X-WR-CALDESC:Events for The Lieutenant Governor of Newfoundland and Labrador
BEGIN:VTIMEZONE
TZID:America/St_Johns
BEGIN:DAYLIGHT
TZOFFSETFROM:-0330
TZOFFSETTO:-0230
TZNAME:NDT
DTSTART:20230312T053000
END:DAYLIGHT
BEGIN:STANDARD
TZOFFSETFROM:-0230
TZOFFSETTO:-0330
TZNAME:NST
DTSTART:20231105T043000
END:STANDARD
END:VTIMEZONE
BEGIN:VEVENT
DTSTART;TZID=America/St_Johns:20230912T193000
DTEND;TZID=America/St_Johns:20230912T235900
DTSTAMP:20260420T140734
CREATED:20230914T125842Z
LAST-MODIFIED:20230914T125842Z
UID:5988-1694547000-1694563140@www.govhouse.nl.ca
SUMMARY:Government House Lighting - Charcot-Marie-Tooth (CMT) Awareness Month
DESCRIPTION:September 12\, 2023\, Government House will be lit blue in recognition of Charcot-Marie-Tooth (CMT) Awareness Month.
URL:https://www.govhouse.nl.ca/event/government-house-lighting-charcot-marie-tooth-cmt-awareness-month/
LOCATION:50 Military Road\, St. John’s\, N.L. A1C 5W4
END:VEVENT
END:VCALENDAR