BEGIN:VCALENDAR
VERSION:2.0
PRODID:-//The Lieutenant Governor of Newfoundland and Labrador - ECPv5.10.0//NONSGML v1.0//EN
CALSCALE:GREGORIAN
METHOD:PUBLISH
X-WR-CALNAME:The Lieutenant Governor of Newfoundland and Labrador
X-ORIGINAL-URL:https://www.govhouse.nl.ca
X-WR-CALDESC:Events for The Lieutenant Governor of Newfoundland and Labrador
BEGIN:VTIMEZONE
TZID:America/St_Johns
BEGIN:DAYLIGHT
TZOFFSETFROM:-0330
TZOFFSETTO:-0230
TZNAME:NDT
DTSTART:20230312T053000
END:DAYLIGHT
BEGIN:STANDARD
TZOFFSETFROM:-0230
TZOFFSETTO:-0330
TZNAME:NST
DTSTART:20231105T043000
END:STANDARD
END:VTIMEZONE
BEGIN:VEVENT
DTSTART;TZID=America/St_Johns:20231222T170000
DTEND;TZID=America/St_Johns:20231222T235900
DTSTAMP:20260419T105652
CREATED:20231214T144058Z
LAST-MODIFIED:20231214T144058Z
UID:6593-1703264400-1703289540@www.govhouse.nl.ca
SUMMARY:Government House Lighting – Celebration of the Holiday Season
DESCRIPTION:December 22\, 2023\, Government House will be lit red and green in celebration of the Holiday season.
URL:https://www.govhouse.nl.ca/event/government-house-lighting-celebration-of-the-holiday-season-12/
LOCATION:50 Military Road\, St. John’s\, N.L. A1C 5W4
END:VEVENT
END:VCALENDAR