BEGIN:VCALENDAR
VERSION:2.0
PRODID:-//The Lieutenant Governor of Newfoundland and Labrador - ECPv5.10.0//NONSGML v1.0//EN
CALSCALE:GREGORIAN
METHOD:PUBLISH
X-WR-CALNAME:The Lieutenant Governor of Newfoundland and Labrador
X-ORIGINAL-URL:https://www.govhouse.nl.ca
X-WR-CALDESC:Events for The Lieutenant Governor of Newfoundland and Labrador
BEGIN:VTIMEZONE
TZID:America/St_Johns
BEGIN:DAYLIGHT
TZOFFSETFROM:-0330
TZOFFSETTO:-0230
TZNAME:NDT
DTSTART:20230312T053000
END:DAYLIGHT
BEGIN:STANDARD
TZOFFSETFROM:-0230
TZOFFSETTO:-0330
TZNAME:NST
DTSTART:20231105T043000
END:STANDARD
END:VTIMEZONE
BEGIN:VEVENT
DTSTART;TZID=America/St_Johns:20231125T170000
DTEND;TZID=America/St_Johns:20231125T235900
DTSTAMP:20260419T181546
CREATED:20231124T152213Z
LAST-MODIFIED:20231124T152221Z
UID:6421-1700931600-1700956740@www.govhouse.nl.ca
SUMMARY:Government House Lighting - 16 Days of Activism Against Gender Violence
DESCRIPTION:November 25\, 2023\, Government House will be lit purple in recognition of the 16 Days of Activism Against Gender Violence\, and the International Day for the Elimination of Violence Against Women.
URL:https://www.govhouse.nl.ca/event/government-house-lighting-16-days-of-activism-against-gender-violence/
LOCATION:50 Military Road\, St. John’s\, N.L. A1C 5W4
END:VEVENT
END:VCALENDAR