BEGIN:VCALENDAR
VERSION:2.0
PRODID:-//The Lieutenant Governor of Newfoundland and Labrador - ECPv5.10.0//NONSGML v1.0//EN
CALSCALE:GREGORIAN
METHOD:PUBLISH
X-WR-CALNAME:The Lieutenant Governor of Newfoundland and Labrador
X-ORIGINAL-URL:https://www.govhouse.nl.ca
X-WR-CALDESC:Events for The Lieutenant Governor of Newfoundland and Labrador
BEGIN:VTIMEZONE
TZID:America/St_Johns
BEGIN:DAYLIGHT
TZOFFSETFROM:-0330
TZOFFSETTO:-0230
TZNAME:NDT
DTSTART:20230312T053000
END:DAYLIGHT
BEGIN:STANDARD
TZOFFSETFROM:-0230
TZOFFSETTO:-0330
TZNAME:NST
DTSTART:20231105T043000
END:STANDARD
END:VTIMEZONE
BEGIN:VEVENT
DTSTART;TZID=America/St_Johns:20231108T070000
DTEND;TZID=America/St_Johns:20231108T183000
DTSTAMP:20260419T230145
CREATED:20231101T165651Z
LAST-MODIFIED:20231101T165721Z
UID:6300-1699426800-1699468200@www.govhouse.nl.ca
SUMMARY:Government House Flags Half-Mast - Indigenous Veterans Day
DESCRIPTION:November 8\, 2023\, Government House flags will be at half-mast until sunset in recognition of Indigenous Veterans Day\, in remembrance and honour of the important contributions and sacrifices of Indigenous Peoples in service to Canada.
URL:https://www.govhouse.nl.ca/event/government-house-flags-half-mast-indigenous-veterans-day/
LOCATION:50 Military Road\, St. John’s\, N.L. A1C 5W4
END:VEVENT
END:VCALENDAR