BEGIN:VCALENDAR
VERSION:2.0
PRODID:-//The Lieutenant Governor of Newfoundland and Labrador - ECPv5.10.0//NONSGML v1.0//EN
CALSCALE:GREGORIAN
METHOD:PUBLISH
X-WR-CALNAME:The Lieutenant Governor of Newfoundland and Labrador
X-ORIGINAL-URL:https://www.govhouse.nl.ca
X-WR-CALDESC:Events for The Lieutenant Governor of Newfoundland and Labrador
BEGIN:VTIMEZONE
TZID:America/St_Johns
BEGIN:DAYLIGHT
TZOFFSETFROM:-0330
TZOFFSETTO:-0230
TZNAME:NDT
DTSTART:20230312T053000
END:DAYLIGHT
BEGIN:STANDARD
TZOFFSETFROM:-0230
TZOFFSETTO:-0330
TZNAME:NST
DTSTART:20231105T043000
END:STANDARD
END:VTIMEZONE
BEGIN:VEVENT
DTSTART;VALUE=DATE:20231206
DTEND;VALUE=DATE:20231207
DTSTAMP:20260419T161146
CREATED:20231204T202651Z
LAST-MODIFIED:20231204T202651Z
UID:6504-1701820800-1701907199@www.govhouse.nl.ca
SUMMARY:Flags Half-Mast & Government House Lighting - National Day of Remembrance and Action on Violence Against Women
DESCRIPTION:December 6\, 2023\, Government House flags will be at half-mast\, and Government House will be lit purple\, to mark National Day of Remembrance and Action on Violence Against Women.
URL:https://www.govhouse.nl.ca/event/flags-half-mast-government-house-lighting-national-day-of-remembrance-and-action-on-violence-against-women/
LOCATION:50 Military Road\, St. John’s\, N.L. A1C 5W4
END:VEVENT
END:VCALENDAR