BEGIN:VCALENDAR
VERSION:2.0
PRODID:-//The Lieutenant Governor of Newfoundland and Labrador - ECPv5.10.0//NONSGML v1.0//EN
CALSCALE:GREGORIAN
METHOD:PUBLISH
X-WR-CALNAME:The Lieutenant Governor of Newfoundland and Labrador
X-ORIGINAL-URL:https://www.govhouse.nl.ca
X-WR-CALDESC:Events for The Lieutenant Governor of Newfoundland and Labrador
BEGIN:VTIMEZONE
TZID:America/St_Johns
BEGIN:DAYLIGHT
TZOFFSETFROM:-0330
TZOFFSETTO:-0230
TZNAME:NDT
DTSTART:20190310T053000
END:DAYLIGHT
BEGIN:STANDARD
TZOFFSETFROM:-0230
TZOFFSETTO:-0330
TZNAME:NST
DTSTART:20191103T043000
END:STANDARD
END:VTIMEZONE
BEGIN:VEVENT
DTSTART;TZID=America/St_Johns:20191113T123000
DTEND;TZID=America/St_Johns:20191113T133000
DTSTAMP:20260421T222340
CREATED:20190808T142953Z
LAST-MODIFIED:20190808T142953Z
UID:4507-1573648200-1573651800@www.govhouse.nl.ca
SUMMARY:First Annual Leadership Summit for Women in the Municipal Sector
DESCRIPTION:This event is invite only.
URL:https://www.govhouse.nl.ca/event/first-annual-leadership-summit-for-women-in-the-municipal-sector/
LOCATION:Delta St. John’s
END:VEVENT
END:VCALENDAR