BEGIN:VCALENDAR
VERSION:2.0
PRODID:-//The Lieutenant Governor of Newfoundland and Labrador - ECPv5.10.0//NONSGML v1.0//EN
CALSCALE:GREGORIAN
METHOD:PUBLISH
X-WR-CALNAME:The Lieutenant Governor of Newfoundland and Labrador
X-ORIGINAL-URL:https://www.govhouse.nl.ca
X-WR-CALDESC:Events for The Lieutenant Governor of Newfoundland and Labrador
BEGIN:VTIMEZONE
TZID:America/St_Johns
BEGIN:DAYLIGHT
TZOFFSETFROM:-0330
TZOFFSETTO:-0230
TZNAME:NDT
DTSTART:20190310T053000
END:DAYLIGHT
BEGIN:STANDARD
TZOFFSETFROM:-0230
TZOFFSETTO:-0330
TZNAME:NST
DTSTART:20191103T043000
END:STANDARD
END:VTIMEZONE
BEGIN:VEVENT
DTSTART;TZID=America/St_Johns:20190129T190000
DTEND;TZID=America/St_Johns:20190129T210000
DTSTAMP:20260423T180525
CREATED:20190104T192252Z
LAST-MODIFIED:20190104T192252Z
UID:3982-1548788400-1548795600@www.govhouse.nl.ca
SUMMARY:Episcopal Installation
DESCRIPTION:Their Honours will attend Episcopal Installation of The Most Reverend Peter Joseph Hundt\, D.D. as Archbishop of St. John’s
URL:https://www.govhouse.nl.ca/event/episcopal-installation/
LOCATION:Basilica Cathedral of St. John the Baptist
END:VEVENT
END:VCALENDAR