BEGIN:VCALENDAR
VERSION:2.0
PRODID:-//The Lieutenant Governor of Newfoundland and Labrador - ECPv5.10.0//NONSGML v1.0//EN
CALSCALE:GREGORIAN
METHOD:PUBLISH
X-WR-CALNAME:The Lieutenant Governor of Newfoundland and Labrador
X-ORIGINAL-URL:https://www.govhouse.nl.ca
X-WR-CALDESC:Events for The Lieutenant Governor of Newfoundland and Labrador
BEGIN:VTIMEZONE
TZID:America/St_Johns
BEGIN:DAYLIGHT
TZOFFSETFROM:-0330
TZOFFSETTO:-0230
TZNAME:NDT
DTSTART:20190310T053000
END:DAYLIGHT
BEGIN:STANDARD
TZOFFSETFROM:-0230
TZOFFSETTO:-0330
TZNAME:NST
DTSTART:20191103T043000
END:STANDARD
END:VTIMEZONE
BEGIN:VEVENT
DTSTART;TZID=America/St_Johns:20190215T161500
DTEND;TZID=America/St_Johns:20190215T203000
DTSTAMP:20260423T161148
CREATED:20181221T155415Z
LAST-MODIFIED:20190213T181758Z
UID:3935-1550247300-1550262600@www.govhouse.nl.ca
SUMMARY:Corner Brook Winter Carnival Opening
DESCRIPTION:On Friday\, February 15\, 2019 Her Honour The Honourable Judy M. Foote\, Lieutenant Governor of Newfoundland and Labrador\, and His Honour Howard W. Foote will participate in Corner Brook Winter Carnival opening day events. \nAt 6:15 p.m. Their Honours will attend the Flag Raising and Torch Lighting at Corner Brook City Hall. \nAt 6:45 p.m. Their Honours will participate in the Torch Light People Parade from Corner Brook City Hall to Margaret Bowater Park. \nAt 7:15 p.m. Their Honours will participate in the official Opening Ceremony and the Party in the Park at Margaret Bowater Park\, where Her Honour will bring greetings.
URL:https://www.govhouse.nl.ca/event/corner-brook-winter-carnival/
END:VEVENT
END:VCALENDAR