BEGIN:VCALENDAR
VERSION:2.0
PRODID:-//The Lieutenant Governor of Newfoundland and Labrador - ECPv5.10.0//NONSGML v1.0//EN
CALSCALE:GREGORIAN
METHOD:PUBLISH
X-WR-CALNAME:The Lieutenant Governor of Newfoundland and Labrador
X-ORIGINAL-URL:https://www.govhouse.nl.ca
X-WR-CALDESC:Events for The Lieutenant Governor of Newfoundland and Labrador
BEGIN:VTIMEZONE
TZID:America/St_Johns
BEGIN:DAYLIGHT
TZOFFSETFROM:-0330
TZOFFSETTO:-0230
TZNAME:NDT
DTSTART:20180311T053000
END:DAYLIGHT
BEGIN:STANDARD
TZOFFSETFROM:-0230
TZOFFSETTO:-0330
TZNAME:NST
DTSTART:20181104T043000
END:STANDARD
END:VTIMEZONE
BEGIN:VEVENT
DTSTART;TZID=America/St_Johns:20181223T110000
DTEND;TZID=America/St_Johns:20181223T120000
DTSTAMP:20260423T194924
CREATED:20181016T182039Z
LAST-MODIFIED:20181016T182216Z
UID:2971-1545562800-1545566400@www.govhouse.nl.ca
SUMMARY:Cochrane Street United Church Service of Lessons and Carols
DESCRIPTION:
URL:https://www.govhouse.nl.ca/event/cochrane-street-united-church-service-of-lessons-and-carols/
END:VEVENT
END:VCALENDAR