BEGIN:VCALENDAR
VERSION:2.0
PRODID:-//The Lieutenant Governor of Newfoundland and Labrador - ECPv5.10.0//NONSGML v1.0//EN
CALSCALE:GREGORIAN
METHOD:PUBLISH
X-WR-CALNAME:The Lieutenant Governor of Newfoundland and Labrador
X-ORIGINAL-URL:https://www.govhouse.nl.ca
X-WR-CALDESC:Events for The Lieutenant Governor of Newfoundland and Labrador
BEGIN:VTIMEZONE
TZID:America/St_Johns
BEGIN:DAYLIGHT
TZOFFSETFROM:-0330
TZOFFSETTO:-0230
TZNAME:NDT
DTSTART:20230312T053000
END:DAYLIGHT
BEGIN:STANDARD
TZOFFSETFROM:-0230
TZOFFSETTO:-0330
TZNAME:NST
DTSTART:20231105T043000
END:STANDARD
END:VTIMEZONE
BEGIN:VEVENT
DTSTART;TZID=America/St_Johns:20231218T140000
DTEND;TZID=America/St_Johns:20231218T153000
DTSTAMP:20260419T123733
CREATED:20231214T144711Z
LAST-MODIFIED:20231214T144711Z
UID:6600-1702908000-1702913400@www.govhouse.nl.ca
SUMMARY:Christmas Visit with Residents of St. Patrick’s Mercy Home
DESCRIPTION:December 18\, 2023\, 2:00 p.m.\, Her Honour\, The Honourable Joan Marie J. Aylward\, Lieutenant Governor of Newfoundland and Labrador\, and His Honour\, The Honourable Carl R. Thompson will participate in a Christmas visit with residents of St. Patrick’s Mercy Home.
URL:https://www.govhouse.nl.ca/event/christmas-visit-with-residents-of-st-patricks-mercy-home/
LOCATION:St. Patrick’s Mercy Home\, 146 Elizabeth Ave\, St. John's\, Newfoundland and Labrador\, Canada
END:VEVENT
END:VCALENDAR