BEGIN:VCALENDAR
VERSION:2.0
PRODID:-//The Lieutenant Governor of Newfoundland and Labrador - ECPv5.10.0//NONSGML v1.0//EN
CALSCALE:GREGORIAN
METHOD:PUBLISH
X-WR-CALNAME:The Lieutenant Governor of Newfoundland and Labrador
X-ORIGINAL-URL:https://www.govhouse.nl.ca
X-WR-CALDESC:Events for The Lieutenant Governor of Newfoundland and Labrador
BEGIN:VTIMEZONE
TZID:America/St_Johns
BEGIN:DAYLIGHT
TZOFFSETFROM:-0330
TZOFFSETTO:-0230
TZNAME:NDT
DTSTART:20230312T053000
END:DAYLIGHT
BEGIN:STANDARD
TZOFFSETFROM:-0230
TZOFFSETTO:-0330
TZNAME:NST
DTSTART:20231105T043000
END:STANDARD
END:VTIMEZONE
BEGIN:VEVENT
DTSTART;TZID=America/St_Johns:20231219T140000
DTEND;TZID=America/St_Johns:20231219T153000
DTSTAMP:20260419T105310
CREATED:20231214T144757Z
LAST-MODIFIED:20231214T144757Z
UID:6602-1702994400-1702999800@www.govhouse.nl.ca
SUMMARY:Christmas Visit with Residents of Saint Luke’s Homes
DESCRIPTION:December 19\, 2023\, 2:00 p.m.\, Their Honours will participate in a Christmas visit with residents of Saint Luke’s Homes.
URL:https://www.govhouse.nl.ca/event/christmas-visit-with-residents-of-saint-lukes-homes/
LOCATION:Saint Lukes Homes\, 24 Road De Luxe\, St. John's\, Newfoundland and Labrador
END:VEVENT
END:VCALENDAR