BEGIN:VCALENDAR
VERSION:2.0
PRODID:-//The Lieutenant Governor of Newfoundland and Labrador - ECPv5.10.0//NONSGML v1.0//EN
CALSCALE:GREGORIAN
METHOD:PUBLISH
X-WR-CALNAME:The Lieutenant Governor of Newfoundland and Labrador
X-ORIGINAL-URL:https://www.govhouse.nl.ca
X-WR-CALDESC:Events for The Lieutenant Governor of Newfoundland and Labrador
BEGIN:VTIMEZONE
TZID:America/St_Johns
BEGIN:DAYLIGHT
TZOFFSETFROM:-0330
TZOFFSETTO:-0230
TZNAME:NDT
DTSTART:20230312T053000
END:DAYLIGHT
BEGIN:STANDARD
TZOFFSETFROM:-0230
TZOFFSETTO:-0330
TZNAME:NST
DTSTART:20231105T043000
END:STANDARD
END:VTIMEZONE
BEGIN:VEVENT
DTSTART;TZID=America/St_Johns:20231215T140000
DTEND;TZID=America/St_Johns:20231215T153000
DTSTAMP:20260419T123733
CREATED:20231208T140924Z
LAST-MODIFIED:20231208T140924Z
UID:6559-1702648800-1702654200@www.govhouse.nl.ca
SUMMARY:Christmas Visit with Residents of Pleasant View Towers
DESCRIPTION:December 15\, 2023\, 2:00 p.m.\, Their Honours will participate in a Christmas visit with residents of Pleasant View Towers.
URL:https://www.govhouse.nl.ca/event/christmas-visit-with-residents-of-pleasant-view-towers/
LOCATION:Pleasant View Towers\, 65 Newfoundland Dr\, St. John's\, Newfoundland and Labrador\, A1A 0L7\, Canada
END:VEVENT
END:VCALENDAR