BEGIN:VCALENDAR
VERSION:2.0
PRODID:-//The Lieutenant Governor of Newfoundland and Labrador - ECPv5.10.0//NONSGML v1.0//EN
CALSCALE:GREGORIAN
METHOD:PUBLISH
X-WR-CALNAME:The Lieutenant Governor of Newfoundland and Labrador
X-ORIGINAL-URL:https://www.govhouse.nl.ca
X-WR-CALDESC:Events for The Lieutenant Governor of Newfoundland and Labrador
BEGIN:VTIMEZONE
TZID:America/St_Johns
BEGIN:DAYLIGHT
TZOFFSETFROM:-0330
TZOFFSETTO:-0230
TZNAME:NDT
DTSTART:20180311T053000
END:DAYLIGHT
BEGIN:STANDARD
TZOFFSETFROM:-0230
TZOFFSETTO:-0330
TZNAME:NST
DTSTART:20181104T043000
END:STANDARD
END:VTIMEZONE
BEGIN:VEVENT
DTSTART;TZID=America/St_Johns:20181214T140000
DTEND;TZID=America/St_Johns:20181214T150000
DTSTAMP:20260423T194124
CREATED:20181023T171651Z
LAST-MODIFIED:20181023T171651Z
UID:3142-1544796000-1544799600@www.govhouse.nl.ca
SUMMARY:Christmas Visit to Pleasant View Towers
DESCRIPTION:
URL:https://www.govhouse.nl.ca/event/christmas-visit-to-pleasant-view-towers/
LOCATION:65 Newfoundland Drive\, St. John’s
END:VEVENT
END:VCALENDAR