BEGIN:VCALENDAR
VERSION:2.0
PRODID:-//The Lieutenant Governor of Newfoundland and Labrador - ECPv5.10.0//NONSGML v1.0//EN
CALSCALE:GREGORIAN
METHOD:PUBLISH
X-WR-CALNAME:The Lieutenant Governor of Newfoundland and Labrador
X-ORIGINAL-URL:https://www.govhouse.nl.ca
X-WR-CALDESC:Events for The Lieutenant Governor of Newfoundland and Labrador
BEGIN:VTIMEZONE
TZID:America/St_Johns
BEGIN:DAYLIGHT
TZOFFSETFROM:-0330
TZOFFSETTO:-0230
TZNAME:NDT
DTSTART:20190310T053000
END:DAYLIGHT
BEGIN:STANDARD
TZOFFSETFROM:-0230
TZOFFSETTO:-0330
TZNAME:NST
DTSTART:20191103T043000
END:STANDARD
END:VTIMEZONE
BEGIN:VEVENT
DTSTART;TZID=America/St_Johns:20190817T123000
DTEND;TZID=America/St_Johns:20190817T133000
DTSTAMP:20260422T184626
CREATED:20190214T195903Z
LAST-MODIFIED:20190214T195903Z
UID:4216-1566045000-1566048600@www.govhouse.nl.ca
SUMMARY:Avalon Dragons' Flower Ceremony
DESCRIPTION:
URL:https://www.govhouse.nl.ca/event/avalon-dragons-flower-ceremony/
LOCATION:Octagon Pond\, Paradise
END:VEVENT
END:VCALENDAR