BEGIN:VCALENDAR
VERSION:2.0
PRODID:-//The Lieutenant Governor of Newfoundland and Labrador - ECPv5.10.0//NONSGML v1.0//EN
CALSCALE:GREGORIAN
METHOD:PUBLISH
X-WR-CALNAME:The Lieutenant Governor of Newfoundland and Labrador
X-ORIGINAL-URL:https://www.govhouse.nl.ca
X-WR-CALDESC:Events for The Lieutenant Governor of Newfoundland and Labrador
BEGIN:VTIMEZONE
TZID:America/St_Johns
BEGIN:DAYLIGHT
TZOFFSETFROM:-0330
TZOFFSETTO:-0230
TZNAME:NDT
DTSTART:20190310T053000
END:DAYLIGHT
BEGIN:STANDARD
TZOFFSETFROM:-0230
TZOFFSETTO:-0330
TZNAME:NST
DTSTART:20191103T043000
END:STANDARD
END:VTIMEZONE
BEGIN:VEVENT
DTSTART;TZID=America/St_Johns:20191205T150000
DTEND;TZID=America/St_Johns:20191205T170000
DTSTAMP:20260421T220951
CREATED:20190808T143721Z
LAST-MODIFIED:20190808T143721Z
UID:4516-1575558000-1575565200@www.govhouse.nl.ca
SUMMARY:4th Annual Newfoundland and Labrador Human Rights Award Ceremony and Reception
DESCRIPTION:This event is invite only.
URL:https://www.govhouse.nl.ca/event/4th-annual-newfoundland-and-labrador-human-rights-award-ceremony-and-reception/
LOCATION:Government House\, Military Road\, St. John's\, Newfoundland and Labrador\, A1C 5W4\, Canada
ORGANIZER;CN="Human%20Rights%20Commission%20NL":MAILTO:humanrights@gov.nl.ca
END:VEVENT
END:VCALENDAR