BEGIN:VCALENDAR
VERSION:2.0
PRODID:-//The Lieutenant Governor of Newfoundland and Labrador - ECPv5.10.0//NONSGML v1.0//EN
CALSCALE:GREGORIAN
METHOD:PUBLISH
X-WR-CALNAME:The Lieutenant Governor of Newfoundland and Labrador
X-ORIGINAL-URL:https://www.govhouse.nl.ca
X-WR-CALDESC:Events for The Lieutenant Governor of Newfoundland and Labrador
BEGIN:VTIMEZONE
TZID:America/St_Johns
BEGIN:DAYLIGHT
TZOFFSETFROM:-0330
TZOFFSETTO:-0230
TZNAME:NDT
DTSTART:20230312T053000
END:DAYLIGHT
BEGIN:STANDARD
TZOFFSETFROM:-0230
TZOFFSETTO:-0330
TZNAME:NST
DTSTART:20231105T043000
END:STANDARD
END:VTIMEZONE
BEGIN:VEVENT
DTSTART;TZID=America/St_Johns:20231006T180000
DTEND;TZID=America/St_Johns:20231006T193000
DTSTAMP:20260420T053021
CREATED:20230929T141707Z
LAST-MODIFIED:20230929T141707Z
UID:6104-1696615200-1696620600@www.govhouse.nl.ca
SUMMARY:35th Annual Agricultural Exhibition
DESCRIPTION:October 6\, 2023\, 7:00 p.m.\, Her Honour will participate in the 35th Annual Agricultural Exhibition at the Beaches\, Arts\, and Heritage Centre\, Eastport.
URL:https://www.govhouse.nl.ca/event/35th-annual-agricultural-exhibition/
LOCATION:Beaches\, Arts\, and Heritage Centre\, 8 - 10 CHURCH ST.\, Eastport\, Newfoundland and Labrador\, A0G 1Z0\, Canada
END:VEVENT
END:VCALENDAR