BEGIN:VCALENDAR
VERSION:2.0
PRODID:-//The Lieutenant Governor of Newfoundland and Labrador - ECPv5.10.0//NONSGML v1.0//EN
CALSCALE:GREGORIAN
METHOD:PUBLISH
X-WR-CALNAME:The Lieutenant Governor of Newfoundland and Labrador
X-ORIGINAL-URL:https://www.govhouse.nl.ca
X-WR-CALDESC:Events for The Lieutenant Governor of Newfoundland and Labrador
BEGIN:VTIMEZONE
TZID:America/St_Johns
BEGIN:DAYLIGHT
TZOFFSETFROM:-0330
TZOFFSETTO:-0230
TZNAME:NDT
DTSTART:20230312T053000
END:DAYLIGHT
BEGIN:STANDARD
TZOFFSETFROM:-0230
TZOFFSETTO:-0330
TZNAME:NST
DTSTART:20231105T043000
END:STANDARD
END:VTIMEZONE
BEGIN:VEVENT
DTSTART;TZID=America/St_Johns:20230924T110000
DTEND;TZID=America/St_Johns:20230924T123000
DTSTAMP:20260420T091317
CREATED:20230914T134506Z
LAST-MODIFIED:20230914T134506Z
UID:6041-1695553200-1695558600@www.govhouse.nl.ca
SUMMARY:21st Annual Police and Peace Officers' Memorial Service
DESCRIPTION:September 24\, 2023\, 11:00 a.m.\, Theirs Honours will participate in the 21st Annual Police and Peace Officers’ Memorial Service at the Confederation Building\, St. John’s.
URL:https://www.govhouse.nl.ca/event/21st-annual-police-and-peace-officers-memorial-service/
LOCATION:Confederation Building
END:VEVENT
END:VCALENDAR