BEGIN:VCALENDAR
VERSION:2.0
PRODID:-//The Lieutenant Governor of Newfoundland and Labrador - ECPv5.10.0//NONSGML v1.0//EN
CALSCALE:GREGORIAN
METHOD:PUBLISH
X-WR-CALNAME:The Lieutenant Governor of Newfoundland and Labrador
X-ORIGINAL-URL:https://www.govhouse.nl.ca
X-WR-CALDESC:Events for The Lieutenant Governor of Newfoundland and Labrador
BEGIN:VTIMEZONE
TZID:America/St_Johns
BEGIN:DAYLIGHT
TZOFFSETFROM:-0330
TZOFFSETTO:-0230
TZNAME:NDT
DTSTART:20230312T053000
END:DAYLIGHT
BEGIN:STANDARD
TZOFFSETFROM:-0230
TZOFFSETTO:-0330
TZNAME:NST
DTSTART:20231105T043000
END:STANDARD
END:VTIMEZONE
BEGIN:VEVENT
DTSTART;TZID=America/St_Johns:20230802T110000
DTEND;TZID=America/St_Johns:20230802T113000
DTSTAMP:20260420T221945
CREATED:20230731T114133Z
LAST-MODIFIED:20230801T185517Z
UID:5793-1690974000-1690975800@www.govhouse.nl.ca
SUMMARY:205th Royal St. John’s Regatta
DESCRIPTION:August 2\, 2023\, 11:00 a.m. – 11:30 a.m.\, Her Honour\, The Honourable Judy M. Foote\, Lieutenant Governor of Newfoundland and Labrador\, and His Honour\, Howard W. Foote will participate in the 205th Royal St. John’s Regatta\, and officially start four races. Her Honour will start the Prime Creative Senior Men’s Short Course\, Senior Women’s Long Course\, and the General Workers Senior Men’s Races\, and His Honour will start the City of St. John’s Labour Senior Women’s Race. \n 
URL:https://www.govhouse.nl.ca/event/205th-royal-st-johns-regatta/
LOCATION:Quidi Vidi Boathouse\, 10 Clancey Drive\, St. John;s\, Newfoundland and Labrador\, A1C 5J2\, Canada
END:VEVENT
END:VCALENDAR