BEGIN:VCALENDAR
VERSION:2.0
PRODID:-//The Lieutenant Governor of Newfoundland and Labrador - ECPv5.10.0//NONSGML v1.0//EN
CALSCALE:GREGORIAN
METHOD:PUBLISH
X-WR-CALNAME:The Lieutenant Governor of Newfoundland and Labrador
X-ORIGINAL-URL:https://www.govhouse.nl.ca
X-WR-CALDESC:Events for The Lieutenant Governor of Newfoundland and Labrador
BEGIN:VTIMEZONE
TZID:America/St_Johns
BEGIN:DAYLIGHT
TZOFFSETFROM:-0330
TZOFFSETTO:-0230
TZNAME:NDT
DTSTART:20230312T053000
END:DAYLIGHT
BEGIN:STANDARD
TZOFFSETFROM:-0230
TZOFFSETTO:-0330
TZNAME:NST
DTSTART:20231105T043000
END:STANDARD
END:VTIMEZONE
BEGIN:VEVENT
DTSTART;TZID=America/St_Johns:20230727T140000
DTEND;TZID=America/St_Johns:20230727T163000
DTSTAMP:20260420T052112
CREATED:20230712T163043Z
LAST-MODIFIED:20230713T183134Z
UID:5669-1690466400-1690475400@www.govhouse.nl.ca
SUMMARY:The Lieutenant Governor’s Garden Party
DESCRIPTION:  \nThursday\, July 27\, 2023\, 2 – 430 PM\, Her Honour\, The Honourable Judy M. Foote\, Lieutenant Governor of Newfoundland and Labrador\, and His Honour\, Howard W. Foote\, invite the public to join them for the Annual Lieutenant Governor’s Garden Party on the grounds of Government House. \nThe Garden Party this year will feature entertainment by Ana and Eric\, The Celtic Fiddlers\, St. Pat’s Dancers\, The Church Lads Brigade (CLB) Band\, Síochána Duo (Wayne James and Darrin Feehan). The Signal Hill Tattoo\, and the Royal Newfoundland Constabulary Mounted Unit will be in attendance. Refreshments will be served by members of Girl Guides and Scouts Canada. \nSchedule of Performances \n2:00 p.m.       Church Lads Brigade Band \n2:20 p.m.       Ana & Eric \n2:40 p.m.        The Celtic Fiddlers \n3:00 p.m.      Church Lads Brigade Band \n3:20 p.m.        Síochána Duo (Wayne James and Darrin Feehan) \n3:40 p.m.        St. Pat’s Dancers and Musicians \n4:10 p.m.      Church Lads Brigade Band \n  \nIn the event of inclement weather\, the Garden Party will take place Friday\, July 28\, 2023.
URL:https://www.govhouse.nl.ca/event/2023gardenparty/
LOCATION:50 Military Road\, St. John’s\, N.L. A1C 5W4
END:VEVENT
END:VCALENDAR