BEGIN:VCALENDAR
VERSION:2.0
PRODID:-//The Lieutenant Governor of Newfoundland and Labrador - ECPv5.10.0//NONSGML v1.0//EN
CALSCALE:GREGORIAN
METHOD:PUBLISH
X-WR-CALNAME:The Lieutenant Governor of Newfoundland and Labrador
X-ORIGINAL-URL:https://www.govhouse.nl.ca
X-WR-CALDESC:Events for The Lieutenant Governor of Newfoundland and Labrador
BEGIN:VTIMEZONE
TZID:America/St_Johns
BEGIN:DAYLIGHT
TZOFFSETFROM:-0330
TZOFFSETTO:-0230
TZNAME:NDT
DTSTART:20220313T053000
END:DAYLIGHT
BEGIN:STANDARD
TZOFFSETFROM:-0230
TZOFFSETTO:-0330
TZNAME:NST
DTSTART:20221106T043000
END:STANDARD
END:VTIMEZONE
BEGIN:VEVENT
DTSTART;TZID=America/St_Johns:20220720T140000
DTEND;TZID=America/St_Johns:20220720T163000
DTSTAMP:20260423T074810
CREATED:20220712T142159Z
LAST-MODIFIED:20220720T135125Z
UID:5408-1658325600-1658334600@www.govhouse.nl.ca
SUMMARY:2022 Annual Lieutenant Governor's Garden Party
DESCRIPTION:Her Honour\, The Honourable Judy M. Foote\, P.C.\, O.N.L.\, Lieutenant Governor of Newfoundland and Labrador\, and His Honour\, Howard W. Foote\, invite the public to attend the annual Garden Party on the grounds of Government House\, in St. John’s\, on Wednesday\, July 20th\, 2022\, 2–4:30 p.m. \n\n\nFor the first time since 2019\, join Their Honours for an enjoyable afternoon filled with entertainment\, light refreshments\, and more. \nIn the event of inclement weather\, the Garden Party will take place on Thursday\, July 21st\, 2022\, 2–4:30 p.m. \n\nEveryone is welcome. \nMedia are invited to cover the event. \n\n\nMedia contact:\nSamantha Harding\nCommunications Manager\, Government House\n(709) 729-4494\nsamanthaharding@gov.nl.ca
URL:https://www.govhouse.nl.ca/event/2022-lieutenant-governors-garden-party/
LOCATION:Government House
ORGANIZER;CN="Office%20of%20the%20Lieutenant%20Governor":MAILTO:GovernmentHouse@gov.nl.ca
END:VEVENT
END:VCALENDAR